{"text_format":"3","workbook":"xlsx","n_sheets":13,"sheets":["ШАБЛОН","сентябрь","октябрь","ноябрь","декабрь","январь","февраль","март","апрель","май","Лист2","Лист3","Лист1"],"read":"whole","date_system":"1900"}

{"sheet":"ШАБЛОН","index":0,"n_rows":15,"n_cols":32,"rows_kept":15,"merged":[[0,18,0,23]]}
[null,"ГРАФИК КОНТРОЛЬНЫХ РАБОТМБОУ \"Маметьевская ООШ\"",{"$nulls":16},"сентябрь 2021"]
["классы",1,2,3,4,5,6,7,8,9,10,11,12,13,14,15,16,17,18,19,20,21,22,23,24,25,26,27,28,29,30,31]
[1]
[2]
[3]
[4]
[5]
[6]
[7]
[8]
[9]
[]
[{"$nulls":3},"федеральный уровень",{"$nulls":12},"муниципальный уровень"]
[]
[{"$nulls":3},"региональный уровень",{"$nulls":12},"школьный уровень"]

{"sheet":"сентябрь","index":1,"n_rows":22,"n_cols":47,"rows_kept":22,"merged":[[0,18,0,23]]}
[null,"ГРАФИК КОНТРОЛЬНЫХ РАБОТ МБОУ \"Маметьевская ООШ\"",{"$nulls":16},"сентябрь 2023"]
["классы",1,2,3,4,5,6,7,8,9,10,11,12,13,14,15,16,17,18,19,20,21,22,23,24,25,26,27,28,29,30," ","Р","Ал","М","Гм","Ф","Х","Б","Гг","Ом","Ая","Ня","И","Ин","Л","Об"]
[1,{"$nulls":31},{"$f":"COUNTIF(B3:AF3,\"Р\")","v":0},{"$f":"COUNTIF(B3:AF3,\"Ал\")","v":0},{"$f":"COUNTIF(B3:AF3,\"М\")","v":0},{"$f":"COUNTIF(B3:AF3,\"Гм\")","v":0},{"$f":"COUNTIF(B3:AF3,\"Ф\")","v":0},{"$f":"COUNTIF(B3:AF3,\"Х\")","v":0},{"$f":"COUNTIF(B3:AF3,\"Б\")","v":0},{"$f":"COUNTIF(B3:AF3,\"Гг\")","v":0},{"$f":"COUNTIF(B3:AF3,\"Ом\")","v":0},{"$f":"COUNTIF(B3:AF3,\"Ая\")","v":0},{"$f":"COUNTIF(B3:AF3,\"Ня\")","v":0},{"$f":"COUNTIF(B3:AF3,\"И\")","v":0},{"$f":"COUNTIF(B3:AF3,\"Ин\")","v":0},{"$f":"COUNTIF(B3:AF3,\"Л\")","v":0},{"$f":"COUNTIF(B3:AF3,\"Об\")","v":0}]
[2,{"$nulls":11},"М",{"$nulls":8},"Р",{"$nulls":8},"Лч",null,{"$f":"COUNTIF(B4:AF4,\"Р\")","v":1},{"$f":"COUNTIF(B4:AF4,\"Ал\")","v":0},{"$f":"COUNTIF(B4:AF4,\"М\")","v":1},{"$f":"COUNTIF(B4:AF4,\"Гм\")","v":0},{"$f":"COUNTIF(B4:AF4,\"Ф\")","v":0},{"$f":"COUNTIF(B4:AF4,\"Х\")","v":0},{"$f":"COUNTIF(B4:AF4,\"Б\")","v":0},{"$f":"COUNTIF(B4:AF4,\"Гг\")","v":0},{"$f":"COUNTIF(B4:AF4,\"Ом\")","v":0},{"$f":"COUNTIF(B4:AF4,\"Ая\")","v":0},{"$f":"COUNTIF(B4:AF4,\"Ня\")","v":0},{"$f":"COUNTIF(B4:AF4,\"И\")","v":0},{"$f":"COUNTIF(B4:AF4,\"Ин\")","v":0},{"$f":"COUNTIF(B4:AF4,\"Л\")","v":0},{"$f":"COUNTIF(B4:AF4,\"Об\")","v":0}]
[3,{"$nulls":11},"М",{"$nulls":19},0,0,1,0,0,0,0,0,0,0,0,0,0,0,0]
[4,{"$nulls":11},"М",{"$nulls":19},0,0,1,0,0,0,0,0,0,0,0,0,0,0,0]
[5,{"$nulls":11},"Р",{"$nulls":19},1,0,0,0,0,0,0,0,0,0,0,0,0,0,0]
[6,{"$nulls":12},"Р",{"$nulls":18},1,0,0,0,0,0,0,0,0,0,0,0,0,0,0]
[7,{"$nulls":18},"Р",{"$nulls":12},1,0,0,0,0,0,0,0,0,0,0,0,0,0,0]
[8,{"$nulls":13},"Р",{"$nulls":17},1,0,0,0,0,0,0,0,0,0,0,0,0,0,0]
[9,{"$nulls":21},"Р",{"$nulls":9},1,0,0,0,0,0,0,0,0,0,0,0,0,0,0]
[" ",{"$nulls":31},0,0,0,0,0,0,0,0,0,0,0,0,0,0,0]
[]
[{"$nulls":3},"федеральный уровень (ВПР)",{"$nulls":14},"муниципальный уровень (пробные проверочные работы по материалам ГИА)"]
[]
[{"$nulls":3},"региональный уровень (комплексная проверочная работа)",{"$nulls":14},"школьный уровень",{"$nulls":4},"Р"," -русский язык",{"$nulls":4},"Б","  -биология"]
[{"$nulls":16},"Т","родной (тат) язык",{"$nulls":5},"М","  -математика",{"$nulls":4},"Гг","   -география"]
[{"$nulls":16},"Ин"," - информатика",{"$nulls":5},"Ал","   -алгебра",{"$nulls":4},"Ом","  -окружающий мир"]
[{"$nulls":16},"Л"," - литература",{"$nulls":5},"Гм","   -геометрия",{"$nulls":4},"Ая","  -английский язык"]
[{"$nulls":16},"Лч","литературное чтение",{"$nulls":5},"Х","  -химия",{"$nulls":4},"И","  - история"]
[{"$nulls":23},"ВС","вероятность и статистика"]
[{"$nulls":23},"Ф     физика"]

{"sheet":"октябрь","index":2,"n_rows":22,"n_cols":47,"rows_kept":22,"merged":[[0,18,0,23]]}
[null,"ГРАФИК КОНТРОЛЬНЫХ РАБОТ МБОУ \"Маметьевская ООШ\"",{"$nulls":16},"ОКТЯБРЬ 2023"]
["классы",1,2,3,4,5,6,7,8,9,10,11,12,13,14,15,16,17,18,19,20,21,22,23,24,25,26,27,28,29,30,31,"Р","Ал","М","Гм","Ф","Х","Б","Гг","Ом","Ая","Ня","И","Ин","Л","Об"]
[1,{"$nulls":31},{"$f":"COUNTIF(B3:AF3,\"Р\")","v":0},{"$f":"COUNTIF(B3:AF3,\"Ал\")","v":0},{"$f":"COUNTIF(B3:AF3,\"М\")","v":0},{"$f":"COUNTIF(B3:AF3,\"Гм\")","v":0},{"$f":"COUNTIF(B3:AF3,\"Ф\")","v":0},{"$f":"COUNTIF(B3:AF3,\"Х\")","v":0},{"$f":"COUNTIF(B3:AF3,\"Б\")","v":0},{"$f":"COUNTIF(B3:AF3,\"Гг\")","v":0},{"$f":"COUNTIF(B3:AF3,\"Ом\")","v":0},{"$f":"COUNTIF(B3:AF3,\"Ая\")","v":0},{"$f":"COUNTIF(B3:AF3,\"Ня\")","v":0},{"$f":"COUNTIF(B3:AF3,\"И\")","v":0},{"$f":"COUNTIF(B3:AF3,\"Ин\")","v":0},{"$f":"COUNTIF(B3:AF3,\"Л\")","v":0},{"$f":"COUNTIF(B3:AF3,\"Об\")","v":0}]
[2,{"$nulls":15},"Лч",{"$nulls":6},"Р",null,null,"Т","М",{"$nulls":4},{"$f":"COUNTIF(B4:AF4,\"Р\")","v":1},{"$f":"COUNTIF(B4:AF4,\"Ал\")","v":0},{"$f":"COUNTIF(B4:AF4,\"М\")","v":1},{"$f":"COUNTIF(B4:AF4,\"Гм\")","v":0},{"$f":"COUNTIF(B4:AF4,\"Ф\")","v":0},{"$f":"COUNTIF(B4:AF4,\"Х\")","v":0},{"$f":"COUNTIF(B4:AF4,\"Б\")","v":0},{"$f":"COUNTIF(B4:AF4,\"Гг\")","v":0},{"$f":"COUNTIF(B4:AF4,\"Ом\")","v":0},{"$f":"COUNTIF(B4:AF4,\"Ая\")","v":0},{"$f":"COUNTIF(B4:AF4,\"Ня\")","v":0},{"$f":"COUNTIF(B4:AF4,\"И\")","v":0},{"$f":"COUNTIF(B4:AF4,\"Ин\")","v":0},{"$f":"COUNTIF(B4:AF4,\"Л\")","v":0},{"$f":"COUNTIF(B4:AF4,\"Об\")","v":0}]
[3,null,null,"Лч",{"$nulls":5},"М",{"$nulls":16},"Т",{"$nulls":5},0,0,1,0,0,0,0,0,0,0,0,0,0,0,0]
[4,{"$nulls":3},"Ая",null,"М",{"$nulls":3},"Лч",{"$nulls":10},"Лч",{"$nulls":4},"Т",{"$nulls":5},0,0,1,0,0,0,0,0,0,1,0,0,0,0,0]
[5,{"$nulls":10},"Ая",{"$nulls":11},"Т",{"$nulls":3},"М",{"$nulls":4},0,0,1,0,0,0,0,0,0,1,0,0,0,0,0]
[6,{"$nulls":9},"Т",null,"Ая","М",{"$nulls":4},"Р","Гг",null,"М",{"$nulls":10},1,0,2,0,0,0,0,1,0,1,0,0,0,0,0]
[7,{"$nulls":10},"Ая",{"$nulls":15},"Ал",{"$nulls":4},0,1,0,0,0,0,0,0,0,1,0,0,0,0,0]
[8,{"$nulls":3},"Т",null,null,"Ин",{"$nulls":4},"Гм",null,"Х",{"$nulls":9},"Ая",null,null,"Ал",{"$nulls":4},0,1,0,1,0,1,0,0,0,1,0,0,1,0,0]
[9,{"$nulls":8},"Об",{"$nulls":3},"Ин",{"$nulls":7},"Гг",null,"Ая",null,"Ал","Гм","Гг",{"$nulls":4},0,1,0,1,0,0,0,2,0,1,0,0,1,0,1]
[]
[{"$nulls":3},"федеральный уровень (ВПР)",{"$nulls":12},"муниципальный уровень (пробные проверочные работы по материалам ГИА)"]
[]
[{"$nulls":3},"региональный уровень  (РПР)",{"$nulls":12},"школьный уровень",{"$nulls":4},"Р"," -русский язык",{"$nulls":4},"Б","  -биология"]
[{"$nulls":21},"М","  -математика",{"$nulls":4},"Гг","   -география"]
[{"$nulls":14},"Ин"," - информатика",{"$nulls":5},"Ал","   -алгебра",{"$nulls":4},"Ом","  -окружающий мир"]
[{"$nulls":14},"Л"," - литература",{"$nulls":5},"Гм","   -геометрия",{"$nulls":4},"Ая","  -английский язык"]
[{"$nulls":14},"Т","родной (тат) язык",{"$nulls":5},"Х","  -химия",{"$nulls":4},"И","  - история"]
[{"$nulls":14},"Лч","литературное чтение",{"$nulls":5},"Об","обществознание",{"$nulls":4},"Ин","информатика"]
[{"$nulls":21},"ВС","вероятность и статистика"]
[{"$nulls":21},"Ф      физика"]

{"sheet":"ноябрь","index":3,"n_rows":22,"n_cols":47,"rows_kept":22,"merged":[[0,18,0,23]]}
[null,"ГРАФИК КОНТРОЛЬНЫХ РАБОТ МБОУ \"Маметьевская ООШ\"",{"$nulls":16},"ноябрь 2023"]
["классы",1,2,3,4,5,6,7,8,9,10,11,12,13,14,15,16,17,18,19,20,21,22,23,24,25,26,27,28,29,30," ","Р","Ал","М","Гм","Ф","Х","Б","Гг","Ом","Ая","Ня","И","Ин","Л","Об"]
[1,{"$nulls":31},{"$f":"COUNTIF(B3:AF3,\"Р\")","v":0},{"$f":"COUNTIF(B3:AF3,\"Ал\")","v":0},{"$f":"COUNTIF(B3:AF3,\"М\")","v":0},{"$f":"COUNTIF(B3:AF3,\"Гм\")","v":0},{"$f":"COUNTIF(B3:AF3,\"Ф\")","v":0},{"$f":"COUNTIF(B3:AF3,\"Х\")","v":0},{"$f":"COUNTIF(B3:AF3,\"Б\")","v":0},{"$f":"COUNTIF(B3:AF3,\"Гг\")","v":0},{"$f":"COUNTIF(B3:AF3,\"Ом\")","v":0},{"$f":"COUNTIF(B3:AF3,\"Ая\")","v":0},{"$f":"COUNTIF(B3:AF3,\"Ня\")","v":0},{"$f":"COUNTIF(B3:AF3,\"И\")","v":0},{"$f":"COUNTIF(B3:AF3,\"Ин\")","v":0},{"$f":"COUNTIF(B3:AF3,\"Л\")","v":0},{"$f":"COUNTIF(B3:AF3,\"Об\")","v":0}]
[2,{"$nulls":22},"М",{"$nulls":8},{"$f":"COUNTIF(B4:AF4,\"Р\")","v":0},{"$f":"COUNTIF(B4:AF4,\"Ал\")","v":0},{"$f":"COUNTIF(B4:AF4,\"М\")","v":1},{"$f":"COUNTIF(B4:AF4,\"Гм\")","v":0},{"$f":"COUNTIF(B4:AF4,\"Ф\")","v":0},{"$f":"COUNTIF(B4:AF4,\"Х\")","v":0},{"$f":"COUNTIF(B4:AF4,\"Б\")","v":0},{"$f":"COUNTIF(B4:AF4,\"Гг\")","v":0},{"$f":"COUNTIF(B4:AF4,\"Ом\")","v":0},{"$f":"COUNTIF(B4:AF4,\"Ая\")","v":0},{"$f":"COUNTIF(B4:AF4,\"Ня\")","v":0},{"$f":"COUNTIF(B4:AF4,\"И\")","v":0},{"$f":"COUNTIF(B4:AF4,\"Ин\")","v":0},{"$f":"COUNTIF(B4:AF4,\"Л\")","v":0},{"$f":"COUNTIF(B4:AF4,\"Об\")","v":0}]
[3,{"$nulls":9},"М",{"$nulls":13},"Лч",{"$nulls":7},0,0,1,0,0,0,0,0,0,0,0,0,0,0,0]
[4,{"$nulls":20},"М",{"$nulls":10},0,0,1,0,0,0,0,0,0,0,0,0,0,0,0]
[5,{"$nulls":24},"Р",{"$nulls":6},1,0,0,0,0,0,0,0,0,0,0,0,0,0,0]
[6,{"$nulls":23},"Р",{"$nulls":5},"И",null,1,0,0,0,0,0,0,0,0,0,0,1,0,0,0]
[7,{"$nulls":21},"Т",{"$nulls":4},"И","Об",{"$nulls":3},0,0,0,0,0,0,0,0,0,0,0,1,0,0,1]
[8,{"$nulls":27},"И",{"$nulls":3},0,0,0,0,0,0,0,0,0,0,0,1,0,0,0]
[9,{"$nulls":9},"Р",{"$nulls":16},"И",{"$nulls":4},1,0,0,0,0,0,0,0,0,0,0,1,0,0,0]
[" ",{"$nulls":31},0,0,0,0,0,0,0,0,0,0,0,0,0,0,0]
[]
[{"$nulls":3},"федеральный уровень (ВПР)",{"$nulls":14},"муниципальный уровень (пробные проверочные работы по материалам ГИА)"]
[]
[{"$nulls":3},"региональный уровень (оценка функциональной грамотности)",{"$nulls":14},"школьный уровень",{"$nulls":4},"Р"," -русский язык",{"$nulls":4},"Б","  -биология"]
[{"$nulls":23},"М","  -математика",{"$nulls":4},"Гг","   -география"]
[{"$nulls":16},"Ин"," - информатика",{"$nulls":5},"Ал","   -алгебра",{"$nulls":4},"Ом","  -окружающий мир"]
[{"$nulls":16},"Л"," - литература",{"$nulls":5},"Гм","   -геометрия",{"$nulls":4},"Ая","  -английский язык"]
[{"$nulls":16},"Об",null,"обществознание",{"$nulls":4},"Х","  -химия",{"$nulls":4},"И","  - история"]
[{"$nulls":16},"Лч","литературное чтение",{"$nulls":5},"Т","родной (тат) язык",{"$nulls":4},"Ф","  физика"]
[{"$nulls":23},"ВС","вероятность и статистика"]

{"sheet":"декабрь","index":4,"n_rows":22,"n_cols":47,"rows_kept":22,"merged":[[0,18,0,23]]}
[null,"ГРАФИК КОНТРОЛЬНЫХ РАБОТ МБОУ \"Маметьевская ООШ\"",{"$nulls":16},"декабрь 2023"]
["классы",1,2,3,4,5,6,7,8,9,10,11,12,13,14,15,16,17,18,19,20,21,22,23,24,25,26,27,28,29,30,31,"Р","Ал","М","Гм","Ф","Х","Б","Гг","Ом","Ая","Ня","И","Ин","Л","Об"]
[1,{"$nulls":31},{"$f":"COUNTIF(B3:AF3,\"Р\")","v":0},{"$f":"COUNTIF(B3:AF3,\"Ал\")","v":0},{"$f":"COUNTIF(B3:AF3,\"М\")","v":0},{"$f":"COUNTIF(B3:AF3,\"Гм\")","v":0},{"$f":"COUNTIF(B3:AF3,\"Ф\")","v":0},{"$f":"COUNTIF(B3:AF3,\"Х\")","v":0},{"$f":"COUNTIF(B3:AF3,\"Б\")","v":0},{"$f":"COUNTIF(B3:AF3,\"Гг\")","v":0},{"$f":"COUNTIF(B3:AF3,\"Ом\")","v":0},{"$f":"COUNTIF(B3:AF3,\"Ая\")","v":0},{"$f":"COUNTIF(B3:AF3,\"Ня\")","v":0},{"$f":"COUNTIF(B3:AF3,\"И\")","v":0},{"$f":"COUNTIF(B3:AF3,\"Ин\")","v":0},{"$f":"COUNTIF(B3:AF3,\"Л\")","v":0},{"$f":"COUNTIF(B3:AF3,\"Об\")","v":0}]
[2,{"$nulls":17},"Р",{"$nulls":6},"Лч",{"$nulls":3},"М",null,null,{"$f":"COUNTIF(B4:AF4,\"Р\")","v":1},{"$f":"COUNTIF(B4:AF4,\"Ал\")","v":0},{"$f":"COUNTIF(B4:AF4,\"М\")","v":1},{"$f":"COUNTIF(B4:AF4,\"Гм\")","v":0},{"$f":"COUNTIF(B4:AF4,\"Ф\")","v":0},{"$f":"COUNTIF(B4:AF4,\"Х\")","v":0},{"$f":"COUNTIF(B4:AF4,\"Б\")","v":0},{"$f":"COUNTIF(B4:AF4,\"Гг\")","v":0},{"$f":"COUNTIF(B4:AF4,\"Ом\")","v":0},{"$f":"COUNTIF(B4:AF4,\"Ая\")","v":0},{"$f":"COUNTIF(B4:AF4,\"Ня\")","v":0},{"$f":"COUNTIF(B4:AF4,\"И\")","v":0},{"$f":"COUNTIF(B4:AF4,\"Ин\")","v":0},{"$f":"COUNTIF(B4:AF4,\"Л\")","v":0},{"$f":"COUNTIF(B4:AF4,\"Об\")","v":0}]
[3,{"$nulls":6},"Р",{"$nulls":4},"М",{"$nulls":8},"Лч",{"$nulls":7},"Ом",null,null,1,0,1,0,0,0,0,0,1,0,0,0,0,0,0]
[4,"Р",{"$nulls":23},"М",{"$nulls":6},1,0,1,0,0,0,0,0,0,0,0,0,0,0,0]
[5,{"$nulls":5},"И",{"$nulls":7},"Р",{"$nulls":3},"Т",{"$nulls":13},1,0,0,0,0,0,0,0,0,0,0,1,0,0,0]
[6,{"$nulls":12},"Р",null,null,"Т",{"$nulls":15},1,0,0,0,0,0,0,0,0,0,0,0,0,0,0]
[7,{"$nulls":12},"Т",null,null,"Т",null,"Гм",{"$nulls":7},"Р","Ал","Р","Ф",null,null,2,1,0,1,1,0,0,0,0,0,0,0,0,0,0]
[8,null,"Ин",{"$nulls":9},"Гм",null,"Ф",{"$nulls":17},0,0,0,1,1,0,0,0,0,0,0,0,1,0,0]
[9,{"$nulls":5},"Ал","Гм","Р",{"$nulls":6},"Ин",null,null,"Р",null,null,"Ф","Т",{"$nulls":9},2,1,0,1,1,0,0,0,0,0,0,0,1,0,0]
[" ",{"$nulls":31},0,0,0,0,0,0,0,0,0,0,0,0,0,0,0]
[]
[{"$nulls":3},"федеральный уровень (ВПР)",{"$nulls":12},"муниципальный уровень (пробные проверочные работы по материалам ГИА)"]
[]
[{"$nulls":3},"региональный уровень",{"$nulls":12},"школьный уровень",{"$nulls":4},"Р"," -русский язык",{"$nulls":4},"Б","  -биология"]
[{"$nulls":14},"Т","родной (тат) язык",{"$nulls":5},"М","  -математика",{"$nulls":4},"Гг","   -география"]
[{"$nulls":14},"Ин"," - информатика",{"$nulls":5},"Ал","   -алгебра",{"$nulls":4},"Ом","  -окружающий мир"]
[{"$nulls":14},"Л"," - литература",{"$nulls":5},"Гм","   -геометрия",{"$nulls":4},"Ая","  -английский язык"]
[{"$nulls":14},"Лч","литературное чтение",{"$nulls":5},"Х","  -химия",{"$nulls":4},"И","  - история"]
[{"$nulls":21},"ВС","  - вероятность и",{"$nulls":4},"Ф","  - физика"]
[{"$nulls":22},"статистика"]

{"sheet":"январь","index":5,"n_rows":21,"n_cols":47,"rows_kept":21,"merged":[[0,18,0,23]]}
[null,"ГРАФИК КОНТРОЛЬНЫХ РАБОТ МБОУ \"Маметьевская ООШ\"",{"$nulls":16},"январь 2024"]
["классы",1,2,3,4,5,6,7,8,9,10,11,12,13,14,15,16,17,18,19,20,21,22,23,24,25,26,27,28,29,30,31,"Р","Ал","М","Гм","Ф","Х","Б","Гг","Ом","Ая","Ня","И","Ин","Л","Об"]
[1,{"$nulls":31},{"$f":"COUNTIF(B3:AF3,\"Р\")","v":0},{"$f":"COUNTIF(B3:AF3,\"Ал\")","v":0},{"$f":"COUNTIF(B3:AF3,\"М\")","v":0},{"$f":"COUNTIF(B3:AF3,\"Гм\")","v":0},{"$f":"COUNTIF(B3:AF3,\"Ф\")","v":0},{"$f":"COUNTIF(B3:AF3,\"Х\")","v":0},{"$f":"COUNTIF(B3:AF3,\"Б\")","v":0},{"$f":"COUNTIF(B3:AF3,\"Гг\")","v":0},{"$f":"COUNTIF(B3:AF3,\"Ом\")","v":0},{"$f":"COUNTIF(B3:AF3,\"Ая\")","v":0},{"$f":"COUNTIF(B3:AF3,\"Ня\")","v":0},{"$f":"COUNTIF(B3:AF3,\"И\")","v":0},{"$f":"COUNTIF(B3:AF3,\"Ин\")","v":0},{"$f":"COUNTIF(B3:AF3,\"Л\")","v":0},{"$f":"COUNTIF(B3:AF3,\"Об\")","v":0}]
[2,{"$nulls":31},{"$f":"COUNTIF(B4:AF4,\"Р\")","v":0},{"$f":"COUNTIF(B4:AF4,\"Ал\")","v":0},{"$f":"COUNTIF(B4:AF4,\"М\")","v":0},{"$f":"COUNTIF(B4:AF4,\"Гм\")","v":0},{"$f":"COUNTIF(B4:AF4,\"Ф\")","v":0},{"$f":"COUNTIF(B4:AF4,\"Х\")","v":0},{"$f":"COUNTIF(B4:AF4,\"Б\")","v":0},{"$f":"COUNTIF(B4:AF4,\"Гг\")","v":0},{"$f":"COUNTIF(B4:AF4,\"Ом\")","v":0},{"$f":"COUNTIF(B4:AF4,\"Ая\")","v":0},{"$f":"COUNTIF(B4:AF4,\"Ня\")","v":0},{"$f":"COUNTIF(B4:AF4,\"И\")","v":0},{"$f":"COUNTIF(B4:AF4,\"Ин\")","v":0},{"$f":"COUNTIF(B4:AF4,\"Л\")","v":0},{"$f":"COUNTIF(B4:AF4,\"Об\")","v":0}]
[3,{"$nulls":31},0,0,0,0,0,0,0,0,0,0,0,0,0,0,0]
[4,{"$nulls":31},0,0,0,0,0,0,0,0,0,0,0,0,0,0,0]
[5,{"$nulls":31},0,0,0,0,0,0,0,0,0,0,0,0,0,0,0]
[6,{"$nulls":31},0,0,0,0,0,0,0,0,0,0,0,0,0,0,0]
[7,{"$nulls":31},0,0,0,0,0,0,0,0,0,0,0,0,0,0,0]
[8,{"$nulls":31},0,0,0,0,0,0,0,0,0,0,0,0,0,0,0]
[9,{"$nulls":31},0,0,0,0,0,0,0,0,0,0,0,0,0,0,0]
[" ",{"$nulls":31},0,0,0,0,0,0,0,0,0,0,0,0,0,0,0]
[]
[{"$nulls":3},"федеральный уровень (ВПР)",{"$nulls":12},"муниципальный уровень (пробные проверочные работы по материалам ГИА)"]
[]
[{"$nulls":3},"региональный уровень",{"$nulls":12},"школьный уровень",{"$nulls":5},"Р"," -русский язык",{"$nulls":4},"Б","  -биология"]
[{"$nulls":22},"М","  -математика",{"$nulls":4},"Гг","   -география"]
[{"$nulls":14},"Ин"," - информатика",{"$nulls":6},"Ал","   -алгебра",{"$nulls":4},"Ом","  -окружающий мир"]
[{"$nulls":14},"Л"," - литература",{"$nulls":6},"Гм","   -геометрия",{"$nulls":4},"Ая","  -английский язык"]
[{"$nulls":14},"ВС"," - вероятность и статистика",{"$nulls":6},"Ф","  -физика",{"$nulls":4},"Ня","  - немецкий язык"]
[{"$nulls":22},"Х","  -химия",{"$nulls":4},"И","  - история"]

{"sheet":"февраль","index":6,"n_rows":21,"n_cols":47,"rows_kept":21,"merged":[[0,18,0,23]]}
[null,"ГРАФИК КОНТРОЛЬНЫХ РАБОТ МБОУ \"Маметьевская ООШ\"",{"$nulls":16},"февраль 2024"]
["классы",1,2,3,4,5,6,7,8,9,10,11,12,13,14,15,16,17,18,19,20,21,22,23,24,25,26,27,28,29," "," ","Р","Ал","М","Гм","Ф","Х","Б","Гг","Ом","Ая","Ня","И","Ин","Л","Об"]
[1,{"$nulls":31},{"$f":"COUNTIF(B3:AF3,\"Р\")","v":0},{"$f":"COUNTIF(B3:AF3,\"Ал\")","v":0},{"$f":"COUNTIF(B3:AF3,\"М\")","v":0},{"$f":"COUNTIF(B3:AF3,\"Гм\")","v":0},{"$f":"COUNTIF(B3:AF3,\"Ф\")","v":0},{"$f":"COUNTIF(B3:AF3,\"Х\")","v":0},{"$f":"COUNTIF(B3:AF3,\"Б\")","v":0},{"$f":"COUNTIF(B3:AF3,\"Гг\")","v":0},{"$f":"COUNTIF(B3:AF3,\"Ом\")","v":0},{"$f":"COUNTIF(B3:AF3,\"Ая\")","v":0},{"$f":"COUNTIF(B3:AF3,\"Ня\")","v":0},{"$f":"COUNTIF(B3:AF3,\"И\")","v":0},{"$f":"COUNTIF(B3:AF3,\"Ин\")","v":0},{"$f":"COUNTIF(B3:AF3,\"Л\")","v":0},{"$f":"COUNTIF(B3:AF3,\"Об\")","v":0}]
[2,{"$nulls":31},{"$f":"COUNTIF(B4:AF4,\"Р\")","v":0},{"$f":"COUNTIF(B4:AF4,\"Ал\")","v":0},{"$f":"COUNTIF(B4:AF4,\"М\")","v":0},{"$f":"COUNTIF(B4:AF4,\"Гм\")","v":0},{"$f":"COUNTIF(B4:AF4,\"Ф\")","v":0},{"$f":"COUNTIF(B4:AF4,\"Х\")","v":0},{"$f":"COUNTIF(B4:AF4,\"Б\")","v":0},{"$f":"COUNTIF(B4:AF4,\"Гг\")","v":0},{"$f":"COUNTIF(B4:AF4,\"Ом\")","v":0},{"$f":"COUNTIF(B4:AF4,\"Ая\")","v":0},{"$f":"COUNTIF(B4:AF4,\"Ня\")","v":0},{"$f":"COUNTIF(B4:AF4,\"И\")","v":0},{"$f":"COUNTIF(B4:AF4,\"Ин\")","v":0},{"$f":"COUNTIF(B4:AF4,\"Л\")","v":0},{"$f":"COUNTIF(B4:AF4,\"Об\")","v":0}]
[3,{"$nulls":31},0,0,0,0,0,0,0,0,0,0,0,0,0,0,0]
[4,{"$nulls":31},0,0,0,0,0,0,0,0,0,0,0,0,0,0,0]
[5,{"$nulls":31},0,0,0,0,0,0,0,0,0,0,0,0,0,0,0]
[6,{"$nulls":31},0,0,0,0,0,0,0,0,0,0,0,0,0,0,0]
[7,{"$nulls":31},0,0,0,0,0,0,0,0,0,0,0,0,0,0,0]
[8,{"$nulls":31},0,0,0,0,0,0,0,0,0,0,0,0,0,0,0]
[9,{"$nulls":31},0,0,0,0,0,0,0,0,0,0,0,0,0,0,0]
[" ",{"$nulls":31},0,0,0,0,0,0,0,0,0,0,0,0,0,0,0]
[]
[{"$nulls":3},"федеральный уровень (ВПР)",{"$nulls":12},"муниципальный уровень (пробные проверочные работы по материалам ГИА)"]
[]
[{"$nulls":3},"региональный уровень",{"$nulls":12},"школьный уровень",{"$nulls":4},"Р"," -русский язык",{"$nulls":4},"Б","  -биология"]
[{"$nulls":21},"М","  -математика",{"$nulls":4},"Гг","   -география"]
[{"$nulls":14},"Ин"," - информатика",{"$nulls":5},"Ал","   -алгебра",{"$nulls":4},"Ом","  -окружающий мир"]
[{"$nulls":14},"Л"," - литература",{"$nulls":5},"Гм","   -геометрия",{"$nulls":4},"Ая","  -английский язык"]
[{"$nulls":14},"ВС"," - вероятность и статистика",{"$nulls":5},"Ф","  -физика",{"$nulls":4},"Ня","  - немецкий язык"]
[{"$nulls":21},"Х","  -химия",{"$nulls":4},"И","  - история"]

{"sheet":"март","index":7,"n_rows":21,"n_cols":47,"rows_kept":21}
[null,"ГРАФИК КОНТРОЛЬНЫХ РАБОТ МБОУ \"Маметьевская ООШ\"",{"$nulls":16},"март 2024"]
["классы",1,2,3,4,5,6,7,8,9,10,11,12,13,14,15,16,17,18,19,20,21,22,23,24,25,26,27,28,29,30,31,"Р","Ал","М","Гм","Ф","Х","Б","Гг","Ом","Ая","Ня","И","Ин","Л","Об"]
[1,{"$nulls":31},{"$f":"COUNTIF(B3:AF3,\"Р\")","v":0},{"$f":"COUNTIF(B3:AF3,\"Ал\")","v":0},{"$f":"COUNTIF(B3:AF3,\"М\")","v":0},{"$f":"COUNTIF(B3:AF3,\"Гм\")","v":0},{"$f":"COUNTIF(B3:AF3,\"Ф\")","v":0},{"$f":"COUNTIF(B3:AF3,\"Х\")","v":0},{"$f":"COUNTIF(B3:AF3,\"Б\")","v":0},{"$f":"COUNTIF(B3:AF3,\"Гг\")","v":0},{"$f":"COUNTIF(B3:AF3,\"Ом\")","v":0},{"$f":"COUNTIF(B3:AF3,\"Ая\")","v":0},{"$f":"COUNTIF(B3:AF3,\"Ня\")","v":0},{"$f":"COUNTIF(B3:AF3,\"И\")","v":0},{"$f":"COUNTIF(B3:AF3,\"Ин\")","v":0},{"$f":"COUNTIF(B3:AF3,\"Л\")","v":0},{"$f":"COUNTIF(B3:AF3,\"Об\")","v":0}]
[2,{"$nulls":31},{"$f":"COUNTIF(B4:AF4,\"Р\")","v":0},{"$f":"COUNTIF(B4:AF4,\"Ал\")","v":0},{"$f":"COUNTIF(B4:AF4,\"М\")","v":0},{"$f":"COUNTIF(B4:AF4,\"Гм\")","v":0},{"$f":"COUNTIF(B4:AF4,\"Ф\")","v":0},{"$f":"COUNTIF(B4:AF4,\"Х\")","v":0},{"$f":"COUNTIF(B4:AF4,\"Б\")","v":0},{"$f":"COUNTIF(B4:AF4,\"Гг\")","v":0},{"$f":"COUNTIF(B4:AF4,\"Ом\")","v":0},{"$f":"COUNTIF(B4:AF4,\"Ая\")","v":0},{"$f":"COUNTIF(B4:AF4,\"Ня\")","v":0},{"$f":"COUNTIF(B4:AF4,\"И\")","v":0},{"$f":"COUNTIF(B4:AF4,\"Ин\")","v":0},{"$f":"COUNTIF(B4:AF4,\"Л\")","v":0},{"$f":"COUNTIF(B4:AF4,\"Об\")","v":0}]
[3,{"$nulls":31},0,0,0,0,0,0,0,0,0,0,0,0,0,0,0]
[4,{"$nulls":31},0,0,0,0,0,0,0,0,0,0,0,0,0,0,0]
[5,{"$nulls":31},0,0,0,0,0,0,0,0,0,0,0,0,0,0,0]
[6,{"$nulls":31},0,0,0,0,0,0,0,0,0,0,0,0,0,0,0]
[7,{"$nulls":31},0,0,0,0,0,0,0,0,0,0,0,0,0,0,0]
[8,{"$nulls":31},0,0,0,0,0,0,0,0,0,0,0,0,0,0,0]
[9,{"$nulls":31},0,0,0,0,0,0,0,0,0,0,0,0,0,0,0]
[" ",{"$nulls":31},0,0,0,0,0,0,0,0,0,0,0,0,0,0,0]
[]
[{"$nulls":3},"федеральный уровень (ВПР)",{"$nulls":12},"муниципальный уровень (пробные проверочные работы по материалам ГИА)"]
[]
[{"$nulls":3},"региональный уровень",{"$nulls":12},"школьный уровень",{"$nulls":4},"Р"," -русский язык",{"$nulls":4},"Б","  -биология"]
[{"$nulls":21},"М","  -математика",{"$nulls":4},"Гг","   -география"]
[{"$nulls":14},"Ин"," - информатика",{"$nulls":5},"Ал","   -алгебра",{"$nulls":4},"Ом","  -окружающий мир"]
[{"$nulls":14},"Л"," - литература",{"$nulls":5},"Гм","   -геометрия",{"$nulls":4},"Ая","  -английский язык"]
[{"$nulls":14},"ВС"," - вероятность и статистика",{"$nulls":5},"Ф","  -физика",{"$nulls":4},"Ня","  - немецкий язык"]
[{"$nulls":21},"Х","  -химия",{"$nulls":4},"И","  - история"]

{"sheet":"апрель","index":8,"n_rows":21,"n_cols":47,"rows_kept":21,"merged":[[0,18,0,23]]}
[null,"ГРАФИК КОНТРОЛЬНЫХ РАБОТ МБОУ \"Маметьевская ООШ\"",{"$nulls":16},"апрель 2024"]
["классы",1,2,3,4,5,6,7,8,9,10,11,12,13,14,15,16,17,18,19,20,21,22,23,24,25,26,27,28,29,30," ","Р","Ал","М","Гм","Ф","Х","Б","Гг","Ом","Ая","Ня","И","Ин","Л","Об"]
[1,{"$nulls":31},{"$f":"COUNTIF(B3:AF3,\"Р\")","v":0},{"$f":"COUNTIF(B3:AF3,\"Ал\")","v":0},{"$f":"COUNTIF(B3:AF3,\"М\")","v":0},{"$f":"COUNTIF(B3:AF3,\"Гм\")","v":0},{"$f":"COUNTIF(B3:AF3,\"Ф\")","v":0},{"$f":"COUNTIF(B3:AF3,\"Х\")","v":0},{"$f":"COUNTIF(B3:AF3,\"Б\")","v":0},{"$f":"COUNTIF(B3:AF3,\"Гг\")","v":0},{"$f":"COUNTIF(B3:AF3,\"Ом\")","v":0},{"$f":"COUNTIF(B3:AF3,\"Ая\")","v":0},{"$f":"COUNTIF(B3:AF3,\"Ня\")","v":0},{"$f":"COUNTIF(B3:AF3,\"И\")","v":0},{"$f":"COUNTIF(B3:AF3,\"Ин\")","v":0},{"$f":"COUNTIF(B3:AF3,\"Л\")","v":0},{"$f":"COUNTIF(B3:AF3,\"Об\")","v":0}]
[2,{"$nulls":31},{"$f":"COUNTIF(B4:AF4,\"Р\")","v":0},{"$f":"COUNTIF(B4:AF4,\"Ал\")","v":0},{"$f":"COUNTIF(B4:AF4,\"М\")","v":0},{"$f":"COUNTIF(B4:AF4,\"Гм\")","v":0},{"$f":"COUNTIF(B4:AF4,\"Ф\")","v":0},{"$f":"COUNTIF(B4:AF4,\"Х\")","v":0},{"$f":"COUNTIF(B4:AF4,\"Б\")","v":0},{"$f":"COUNTIF(B4:AF4,\"Гг\")","v":0},{"$f":"COUNTIF(B4:AF4,\"Ом\")","v":0},{"$f":"COUNTIF(B4:AF4,\"Ая\")","v":0},{"$f":"COUNTIF(B4:AF4,\"Ня\")","v":0},{"$f":"COUNTIF(B4:AF4,\"И\")","v":0},{"$f":"COUNTIF(B4:AF4,\"Ин\")","v":0},{"$f":"COUNTIF(B4:AF4,\"Л\")","v":0},{"$f":"COUNTIF(B4:AF4,\"Об\")","v":0}]
[3,{"$nulls":31},0,0,0,0,0,0,0,0,0,0,0,0,0,0,0]
[4,{"$nulls":31},0,0,0,0,0,0,0,0,0,0,0,0,0,0,0]
[5,{"$nulls":31},0,0,0,0,0,0,0,0,0,0,0,0,0,0,0]
[6,{"$nulls":31},0,0,0,0,0,0,0,0,0,0,0,0,0,0,0]
[7,{"$nulls":31},0,0,0,0,0,0,0,0,0,0,0,0,0,0,0]
[8,{"$nulls":31},0,0,0,0,0,0,0,0,0,0,0,0,0,0,0]
[9,{"$nulls":31},0,0,0,0,0,0,0,0,0,0,0,0,0,0,0]
[" ",{"$nulls":31},0,0,0,0,0,0,0,0,0,0,0,0,0,0,0]
[]
[{"$nulls":3},"федеральный уровень (ВПР)",{"$nulls":12},"муниципальный уровень (пробные проверочные работы по материалам ГИА)"]
[]
[{"$nulls":3},"региональный уровень",{"$nulls":12},"школьный уровень",{"$nulls":5},"Р"," -русский язык",{"$nulls":4},"Б","  -биология"]
[{"$nulls":22},"М","  -математика",{"$nulls":4},"Гг","   -география"]
[{"$nulls":14},"Ин"," - информатика",{"$nulls":6},"Ал","   -алгебра",{"$nulls":4},"Ом","  -окружающий мир"]
[{"$nulls":14},"Л"," - литература",{"$nulls":6},"Гм","   -геометрия",{"$nulls":4},"Ая","  -английский язык"]
[{"$nulls":14},"ВС"," - вероятность и статистика",{"$nulls":6},"Ф","  -физика",{"$nulls":4},"Ня","  - немецкий язык"]
[{"$nulls":22},"Х","  -химия",{"$nulls":4},"И","  - история"]

{"sheet":"май","index":9,"n_rows":21,"n_cols":47,"rows_kept":21,"merged":[[0,18,0,23]]}
[null,"ГРАФИК КОНТРОЛЬНЫХ РАБОТ МБОУ \"Маметьевская ООШ\"",{"$nulls":16},"май 2024"]
["классы",1,2,3,4,5,6,7,8,9,10,11,12,13,14,15,16,17,18,19,20,21,22,23,24,25,26,27,28,29,30," ","Р","Ал","М","Гм","Ф","Х","Б","Гг","Ом","Ая","Ня","И","Ин","Л","Об"]
[1,{"$nulls":31},{"$f":"COUNTIF(B3:AF3,\"Р\")","v":0},{"$f":"COUNTIF(B3:AF3,\"Ал\")","v":0},{"$f":"COUNTIF(B3:AF3,\"М\")","v":0},{"$f":"COUNTIF(B3:AF3,\"Гм\")","v":0},{"$f":"COUNTIF(B3:AF3,\"Ф\")","v":0},{"$f":"COUNTIF(B3:AF3,\"Х\")","v":0},{"$f":"COUNTIF(B3:AF3,\"Б\")","v":0},{"$f":"COUNTIF(B3:AF3,\"Гг\")","v":0},{"$f":"COUNTIF(B3:AF3,\"Ом\")","v":0},{"$f":"COUNTIF(B3:AF3,\"Ая\")","v":0},{"$f":"COUNTIF(B3:AF3,\"Ня\")","v":0},{"$f":"COUNTIF(B3:AF3,\"И\")","v":0},{"$f":"COUNTIF(B3:AF3,\"Ин\")","v":0},{"$f":"COUNTIF(B3:AF3,\"Л\")","v":0},{"$f":"COUNTIF(B3:AF3,\"Об\")","v":0}]
[2,{"$nulls":31},{"$f":"COUNTIF(B4:AF4,\"Р\")","v":0},{"$f":"COUNTIF(B4:AF4,\"Ал\")","v":0},{"$f":"COUNTIF(B4:AF4,\"М\")","v":0},{"$f":"COUNTIF(B4:AF4,\"Гм\")","v":0},{"$f":"COUNTIF(B4:AF4,\"Ф\")","v":0},{"$f":"COUNTIF(B4:AF4,\"Х\")","v":0},{"$f":"COUNTIF(B4:AF4,\"Б\")","v":0},{"$f":"COUNTIF(B4:AF4,\"Гг\")","v":0},{"$f":"COUNTIF(B4:AF4,\"Ом\")","v":0},{"$f":"COUNTIF(B4:AF4,\"Ая\")","v":0},{"$f":"COUNTIF(B4:AF4,\"Ня\")","v":0},{"$f":"COUNTIF(B4:AF4,\"И\")","v":0},{"$f":"COUNTIF(B4:AF4,\"Ин\")","v":0},{"$f":"COUNTIF(B4:AF4,\"Л\")","v":0},{"$f":"COUNTIF(B4:AF4,\"Об\")","v":0}]
[3,{"$nulls":31},0,0,0,0,0,0,0,0,0,0,0,0,0,0,0]
[4,{"$nulls":31},0,0,0,0,0,0,0,0,0,0,0,0,0,0,0]
[5,{"$nulls":31},0,0,0,0,0,0,0,0,0,0,0,0,0,0,0]
[6,{"$nulls":31},0,0,0,0,0,0,0,0,0,0,0,0,0,0,0]
[7,{"$nulls":31},0,0,0,0,0,0,0,0,0,0,0,0,0,0,0]
[8,{"$nulls":31},0,0,0,0,0,0,0,0,0,0,0,0,0,0,0]
[9,{"$nulls":31},0,0,0,0,0,0,0,0,0,0,0,0,0,0,0]
[" ",{"$nulls":31},0,0,0,0,0,0,0,0,0,0,0,0,0,0,0]
[]
[{"$nulls":3},"федеральный уровень (ВПР)",{"$nulls":10},"муниципальный уровень (пробные проверочные работы по материалам ГИА)"]
[{"$nulls":20},"Р"," -русский язык",{"$nulls":4},"Б","  -биология"]
[{"$nulls":3},"региональный уровень",{"$nulls":10},"школьный уровень",{"$nulls":5},"М","  -математика",{"$nulls":4},"Гг","   -география"]
[{"$nulls":20},"Ал","   -алгебра",{"$nulls":4},"Ом","  -окружающий мир"]
[{"$nulls":12},"Ин"," - информатика",{"$nulls":6},"Гм","   -геометрия",{"$nulls":4},"Ая","  -английский язык"]
[{"$nulls":12},"Л"," - литература",{"$nulls":6},"Ф","  -физика",{"$nulls":4},"Ня","  - немецкий язык"]
[{"$nulls":12},"Об"," - обществознание",{"$nulls":6},"Х","  -химия",{"$nulls":4},"И","  - история"]
[{"$nulls":12},"ВС"," - вероятность и статистика"]

{"sheet":"Лист2","index":10,"n_rows":11,"n_cols":17,"rows_kept":11}
[]
["классы","Р","Ал","М","Гм","Ф","Х","Б","Гг","Ом","Ая","Ня","И","Ин","Л","Об","итого"]
[1,{"$f":"сентябрь!AG3+октябрь!AG3+ноябрь!AG3+декабрь!AG3+январь!AG3+февраль!AG3+март!AG3+апрель!AG3+май!AG3","v":0},{"$f":"сентябрь!AH3+октябрь!AH3+ноябрь!AH3+декабрь!AH3+январь!AH3+февраль!AH3+март!AH3+апрель!AH3+май!AH3","v":0},{"$f":"сентябрь!AI3+октябрь!AI3+ноябрь!AI3+декабрь!AI3+январь!AI3+февраль!AI3+март!AI3+апрель!AI3+май!AI3","v":0},{"$f":"сентябрь!AJ3+октябрь!AJ3+ноябрь!AJ3+декабрь!AJ3+январь!AJ3+февраль!AJ3+март!AJ3+апрель!AJ3+май!AJ3","v":0},{"$f":"сентябрь!AK3+октябрь!AK3+ноябрь!AK3+декабрь!AK3+январь!AK3+февраль!AK3+март!AK3+апрель!AK3+май!AK3","v":0},{"$f":"сентябрь!AL3+октябрь!AL3+ноябрь!AL3+декабрь!AL3+январь!AL3+февраль!AL3+март!AL3+апрель!AL3+май!AL3","v":0},{"$f":"сентябрь!AM3+октябрь!AM3+ноябрь!AM3+декабрь!AM3+январь!AM3+февраль!AM3+март!AM3+апрель!AM3+май!AM3","v":0},{"$f":"сентябрь!AN3+октябрь!AN3+ноябрь!AN3+декабрь!AN3+январь!AN3+февраль!AN3+март!AN3+апрель!AN3+май!AN3","v":0},{"$f":"сентябрь!AO3+октябрь!AO3+ноябрь!AO3+декабрь!AO3+январь!AO3+февраль!AO3+март!AO3+апрель!AO3+май!AO3","v":0},{"$f":"сентябрь!AP3+октябрь!AP3+ноябрь!AP3+декабрь!AP3+январь!AP3+февраль!AP3+март!AP3+апрель!AP3+май!AP3","v":0},{"$f":"сентябрь!AQ3+октябрь!AQ3+ноябрь!AQ3+декабрь!AQ3+январь!AQ3+февраль!AQ3+март!AQ3+апрель!AQ3+май!AQ3","v":0},{"$f":"сентябрь!AR3+октябрь!AR3+ноябрь!AR3+декабрь!AR3+январь!AR3+февраль!AR3+март!AR3+апрель!AR3+май!AR3","v":0},{"$f":"сентябрь!AS3+октябрь!AS3+ноябрь!AS3+декабрь!AS3+январь!AS3+февраль!AS3+март!AS3+апрель!AS3+май!AS3","v":0},{"$f":"сентябрь!AT3+октябрь!AT3+ноябрь!AT3+декабрь!AT3+январь!AT3+февраль!AT3+март!AT3+апрель!AT3+май!AT3","v":0},{"$f":"сентябрь!AU3+октябрь!AU3+ноябрь!AU3+декабрь!AU3+январь!AU3+февраль!AU3+март!AU3+апрель!AU3+май!AU3","v":0},{"$f":"SUM(B3:P3)","v":0}]
[2,{"$f":"сентябрь!AG4+октябрь!AG4+ноябрь!AG4+декабрь!AG4+январь!AG4+февраль!AG4+март!AG4+апрель!AG4+май!AG4","v":3},{"$f":"сентябрь!AH4+октябрь!AH4+ноябрь!AH4+декабрь!AH4+январь!AH4+февраль!AH4+март!AH4+апрель!AH4+май!AH4","v":0},{"$f":"сентябрь!AI4+октябрь!AI4+ноябрь!AI4+декабрь!AI4+январь!AI4+февраль!AI4+март!AI4+апрель!AI4+май!AI4","v":4},{"$f":"сентябрь!AJ4+октябрь!AJ4+ноябрь!AJ4+декабрь!AJ4+январь!AJ4+февраль!AJ4+март!AJ4+апрель!AJ4+май!AJ4","v":0},{"$f":"сентябрь!AK4+октябрь!AK4+ноябрь!AK4+декабрь!AK4+январь!AK4+февраль!AK4+март!AK4+апрель!AK4+май!AK4","v":0},{"$f":"сентябрь!AL4+октябрь!AL4+ноябрь!AL4+декабрь!AL4+январь!AL4+февраль!AL4+март!AL4+апрель!AL4+май!AL4","v":0},{"$f":"сентябрь!AM4+октябрь!AM4+ноябрь!AM4+декабрь!AM4+январь!AM4+февраль!AM4+март!AM4+апрель!AM4+май!AM4","v":0},{"$f":"сентябрь!AN4+октябрь!AN4+ноябрь!AN4+декабрь!AN4+январь!AN4+февраль!AN4+март!AN4+апрель!AN4+май!AN4","v":0},{"$f":"сентябрь!AO4+октябрь!AO4+ноябрь!AO4+декабрь!AO4+январь!AO4+февраль!AO4+март!AO4+апрель!AO4+май!AO4","v":0},{"$f":"сентябрь!AP4+октябрь!AP4+ноябрь!AP4+декабрь!AP4+январь!AP4+февраль!AP4+март!AP4+апрель!AP4+май!AP4","v":0},{"$f":"сентябрь!AQ4+октябрь!AQ4+ноябрь!AQ4+декабрь!AQ4+январь!AQ4+февраль!AQ4+март!AQ4+апрель!AQ4+май!AQ4","v":0},{"$f":"сентябрь!AR4+октябрь!AR4+ноябрь!AR4+декабрь!AR4+январь!AR4+февраль!AR4+март!AR4+апрель!AR4+май!AR4","v":0},{"$f":"сентябрь!AS4+октябрь!AS4+ноябрь!AS4+декабрь!AS4+январь!AS4+февраль!AS4+март!AS4+апрель!AS4+май!AS4","v":0},{"$f":"сентябрь!AT4+октябрь!AT4+ноябрь!AT4+декабрь!AT4+январь!AT4+февраль!AT4+март!AT4+апрель!AT4+май!AT4","v":0},{"$f":"сентябрь!AU4+октябрь!AU4+ноябрь!AU4+декабрь!AU4+январь!AU4+февраль!AU4+март!AU4+апрель!AU4+май!AU4","v":0},{"$f":"SUM(B4:P4)","v":7}]
[3,{"$f":"сентябрь!AG5+октябрь!AG5+ноябрь!AG5+декабрь!AG5+январь!AG5+февраль!AG5+март!AG5+апрель!AG5+май!AG5","v":1},{"$f":"сентябрь!AH5+октябрь!AH5+ноябрь!AH5+декабрь!AH5+январь!AH5+февраль!AH5+март!AH5+апрель!AH5+май!AH5","v":0},{"$f":"сентябрь!AI5+октябрь!AI5+ноябрь!AI5+декабрь!AI5+январь!AI5+февраль!AI5+март!AI5+апрель!AI5+май!AI5","v":4},{"$f":"сентябрь!AJ5+октябрь!AJ5+ноябрь!AJ5+декабрь!AJ5+январь!AJ5+февраль!AJ5+март!AJ5+апрель!AJ5+май!AJ5","v":0},{"$f":"сентябрь!AK5+октябрь!AK5+ноябрь!AK5+декабрь!AK5+январь!AK5+февраль!AK5+март!AK5+апрель!AK5+май!AK5","v":0},{"$f":"сентябрь!AL5+октябрь!AL5+ноябрь!AL5+декабрь!AL5+январь!AL5+февраль!AL5+март!AL5+апрель!AL5+май!AL5","v":0},{"$f":"сентябрь!AM5+октябрь!AM5+ноябрь!AM5+декабрь!AM5+январь!AM5+февраль!AM5+март!AM5+апрель!AM5+май!AM5","v":0},{"$f":"сентябрь!AN5+октябрь!AN5+ноябрь!AN5+декабрь!AN5+январь!AN5+февраль!AN5+март!AN5+апрель!AN5+май!AN5","v":0},{"$f":"сентябрь!AO5+октябрь!AO5+ноябрь!AO5+декабрь!AO5+январь!AO5+февраль!AO5+март!AO5+апрель!AO5+май!AO5","v":1},{"$f":"сентябрь!AP5+октябрь!AP5+ноябрь!AP5+декабрь!AP5+январь!AP5+февраль!AP5+март!AP5+апрель!AP5+май!AP5","v":0},{"$f":"сентябрь!AQ5+октябрь!AQ5+ноябрь!AQ5+декабрь!AQ5+январь!AQ5+февраль!AQ5+март!AQ5+апрель!AQ5+май!AQ5","v":0},{"$f":"сентябрь!AR5+октябрь!AR5+ноябрь!AR5+декабрь!AR5+январь!AR5+февраль!AR5+март!AR5+апрель!AR5+май!AR5","v":0},{"$f":"сентябрь!AS5+октябрь!AS5+ноябрь!AS5+декабрь!AS5+январь!AS5+февраль!AS5+март!AS5+апрель!AS5+май!AS5","v":0},{"$f":"сентябрь!AT5+октябрь!AT5+ноябрь!AT5+декабрь!AT5+январь!AT5+февраль!AT5+март!AT5+апрель!AT5+май!AT5","v":0},{"$f":"сентябрь!AU5+октябрь!AU5+ноябрь!AU5+декабрь!AU5+январь!AU5+февраль!AU5+март!AU5+апрель!AU5+май!AU5","v":0},6]
[4,{"$f":"сентябрь!AG6+октябрь!AG6+ноябрь!AG6+декабрь!AG6+январь!AG6+февраль!AG6+март!AG6+апрель!AG6+май!AG6","v":1},{"$f":"сентябрь!AH6+октябрь!AH6+ноябрь!AH6+декабрь!AH6+январь!AH6+февраль!AH6+март!AH6+апрель!AH6+май!AH6","v":0},{"$f":"сентябрь!AI6+октябрь!AI6+ноябрь!AI6+декабрь!AI6+январь!AI6+февраль!AI6+март!AI6+апрель!AI6+май!AI6","v":4},{"$f":"сентябрь!AJ6+октябрь!AJ6+ноябрь!AJ6+декабрь!AJ6+январь!AJ6+февраль!AJ6+март!AJ6+апрель!AJ6+май!AJ6","v":0},{"$f":"сентябрь!AK6+октябрь!AK6+ноябрь!AK6+декабрь!AK6+январь!AK6+февраль!AK6+март!AK6+апрель!AK6+май!AK6","v":0},{"$f":"сентябрь!AL6+октябрь!AL6+ноябрь!AL6+декабрь!AL6+январь!AL6+февраль!AL6+март!AL6+апрель!AL6+май!AL6","v":0},{"$f":"сентябрь!AM6+октябрь!AM6+ноябрь!AM6+декабрь!AM6+январь!AM6+февраль!AM6+март!AM6+апрель!AM6+май!AM6","v":0},{"$f":"сентябрь!AN6+октябрь!AN6+ноябрь!AN6+декабрь!AN6+январь!AN6+февраль!AN6+март!AN6+апрель!AN6+май!AN6","v":0},{"$f":"сентябрь!AO6+октябрь!AO6+ноябрь!AO6+декабрь!AO6+январь!AO6+февраль!AO6+март!AO6+апрель!AO6+май!AO6","v":0},{"$f":"сентябрь!AP6+октябрь!AP6+ноябрь!AP6+декабрь!AP6+январь!AP6+февраль!AP6+март!AP6+апрель!AP6+май!AP6","v":1},{"$f":"сентябрь!AQ6+октябрь!AQ6+ноябрь!AQ6+декабрь!AQ6+январь!AQ6+февраль!AQ6+март!AQ6+апрель!AQ6+май!AQ6","v":0},{"$f":"сентябрь!AR6+октябрь!AR6+ноябрь!AR6+декабрь!AR6+январь!AR6+февраль!AR6+март!AR6+апрель!AR6+май!AR6","v":0},{"$f":"сентябрь!AS6+октябрь!AS6+ноябрь!AS6+декабрь!AS6+январь!AS6+февраль!AS6+март!AS6+апрель!AS6+май!AS6","v":0},{"$f":"сентябрь!AT6+октябрь!AT6+ноябрь!AT6+декабрь!AT6+январь!AT6+февраль!AT6+март!AT6+апрель!AT6+май!AT6","v":0},{"$f":"сентябрь!AU6+октябрь!AU6+ноябрь!AU6+декабрь!AU6+январь!AU6+февраль!AU6+март!AU6+апрель!AU6+май!AU6","v":0},6]
[5,{"$f":"сентябрь!AG7+октябрь!AG7+ноябрь!AG7+декабрь!AG7+январь!AG7+февраль!AG7+март!AG7+апрель!AG7+май!AG7","v":3},{"$f":"сентябрь!AH7+октябрь!AH7+ноябрь!AH7+декабрь!AH7+январь!AH7+февраль!AH7+март!AH7+апрель!AH7+май!AH7","v":0},{"$f":"сентябрь!AI7+октябрь!AI7+ноябрь!AI7+декабрь!AI7+январь!AI7+февраль!AI7+март!AI7+апрель!AI7+май!AI7","v":1},{"$f":"сентябрь!AJ7+октябрь!AJ7+ноябрь!AJ7+декабрь!AJ7+январь!AJ7+февраль!AJ7+март!AJ7+апрель!AJ7+май!AJ7","v":0},{"$f":"сентябрь!AK7+октябрь!AK7+ноябрь!AK7+декабрь!AK7+январь!AK7+февраль!AK7+март!AK7+апрель!AK7+май!AK7","v":0},{"$f":"сентябрь!AL7+октябрь!AL7+ноябрь!AL7+декабрь!AL7+январь!AL7+февраль!AL7+март!AL7+апрель!AL7+май!AL7","v":0},{"$f":"сентябрь!AM7+октябрь!AM7+ноябрь!AM7+декабрь!AM7+январь!AM7+февраль!AM7+март!AM7+апрель!AM7+май!AM7","v":0},{"$f":"сентябрь!AN7+октябрь!AN7+ноябрь!AN7+декабрь!AN7+январь!AN7+февраль!AN7+март!AN7+апрель!AN7+май!AN7","v":0},{"$f":"сентябрь!AO7+октябрь!AO7+ноябрь!AO7+декабрь!AO7+январь!AO7+февраль!AO7+март!AO7+апрель!AO7+май!AO7","v":0},{"$f":"сентябрь!AP7+октябрь!AP7+ноябрь!AP7+декабрь!AP7+январь!AP7+февраль!AP7+март!AP7+апрель!AP7+май!AP7","v":1},{"$f":"сентябрь!AQ7+октябрь!AQ7+ноябрь!AQ7+декабрь!AQ7+январь!AQ7+февраль!AQ7+март!AQ7+апрель!AQ7+май!AQ7","v":0},{"$f":"сентябрь!AR7+октябрь!AR7+ноябрь!AR7+декабрь!AR7+январь!AR7+февраль!AR7+март!AR7+апрель!AR7+май!AR7","v":1},{"$f":"сентябрь!AS7+октябрь!AS7+ноябрь!AS7+декабрь!AS7+январь!AS7+февраль!AS7+март!AS7+апрель!AS7+май!AS7","v":0},{"$f":"сентябрь!AT7+октябрь!AT7+ноябрь!AT7+декабрь!AT7+январь!AT7+февраль!AT7+март!AT7+апрель!AT7+май!AT7","v":0},{"$f":"сентябрь!AU7+октябрь!AU7+ноябрь!AU7+декабрь!AU7+январь!AU7+февраль!AU7+март!AU7+апрель!AU7+май!AU7","v":0},6]
[6,{"$f":"сентябрь!AG8+октябрь!AG8+ноябрь!AG8+декабрь!AG8+январь!AG8+февраль!AG8+март!AG8+апрель!AG8+май!AG8","v":4},{"$f":"сентябрь!AH8+октябрь!AH8+ноябрь!AH8+декабрь!AH8+январь!AH8+февраль!AH8+март!AH8+апрель!AH8+май!AH8","v":0},{"$f":"сентябрь!AI8+октябрь!AI8+ноябрь!AI8+декабрь!AI8+январь!AI8+февраль!AI8+март!AI8+апрель!AI8+май!AI8","v":2},{"$f":"сентябрь!AJ8+октябрь!AJ8+ноябрь!AJ8+декабрь!AJ8+январь!AJ8+февраль!AJ8+март!AJ8+апрель!AJ8+май!AJ8","v":0},{"$f":"сентябрь!AK8+октябрь!AK8+ноябрь!AK8+декабрь!AK8+январь!AK8+февраль!AK8+март!AK8+апрель!AK8+май!AK8","v":0},{"$f":"сентябрь!AL8+октябрь!AL8+ноябрь!AL8+декабрь!AL8+январь!AL8+февраль!AL8+март!AL8+апрель!AL8+май!AL8","v":0},{"$f":"сентябрь!AM8+октябрь!AM8+ноябрь!AM8+декабрь!AM8+январь!AM8+февраль!AM8+март!AM8+апрель!AM8+май!AM8","v":0},{"$f":"сентябрь!AN8+октябрь!AN8+ноябрь!AN8+декабрь!AN8+январь!AN8+февраль!AN8+март!AN8+апрель!AN8+май!AN8","v":1},{"$f":"сентябрь!AO8+октябрь!AO8+ноябрь!AO8+декабрь!AO8+январь!AO8+февраль!AO8+март!AO8+апрель!AO8+май!AO8","v":0},{"$f":"сентябрь!AP8+октябрь!AP8+ноябрь!AP8+декабрь!AP8+январь!AP8+февраль!AP8+март!AP8+апрель!AP8+май!AP8","v":1},{"$f":"сентябрь!AQ8+октябрь!AQ8+ноябрь!AQ8+декабрь!AQ8+январь!AQ8+февраль!AQ8+март!AQ8+апрель!AQ8+май!AQ8","v":0},{"$f":"сентябрь!AR8+октябрь!AR8+ноябрь!AR8+декабрь!AR8+январь!AR8+февраль!AR8+март!AR8+апрель!AR8+май!AR8","v":1},{"$f":"сентябрь!AS8+октябрь!AS8+ноябрь!AS8+декабрь!AS8+январь!AS8+февраль!AS8+март!AS8+апрель!AS8+май!AS8","v":0},{"$f":"сентябрь!AT8+октябрь!AT8+ноябрь!AT8+декабрь!AT8+январь!AT8+февраль!AT8+март!AT8+апрель!AT8+май!AT8","v":0},{"$f":"сентябрь!AU8+октябрь!AU8+ноябрь!AU8+декабрь!AU8+январь!AU8+февраль!AU8+март!AU8+апрель!AU8+май!AU8","v":0},9]
[7,{"$f":"сентябрь!AG9+октябрь!AG9+ноябрь!AG9+декабрь!AG9+январь!AG9+февраль!AG9+март!AG9+апрель!AG9+май!AG9","v":3},{"$f":"сентябрь!AH9+октябрь!AH9+ноябрь!AH9+декабрь!AH9+январь!AH9+февраль!AH9+март!AH9+апрель!AH9+май!AH9","v":2},{"$f":"сентябрь!AI9+октябрь!AI9+ноябрь!AI9+декабрь!AI9+январь!AI9+февраль!AI9+март!AI9+апрель!AI9+май!AI9","v":0},{"$f":"сентябрь!AJ9+октябрь!AJ9+ноябрь!AJ9+декабрь!AJ9+январь!AJ9+февраль!AJ9+март!AJ9+апрель!AJ9+май!AJ9","v":1},{"$f":"сентябрь!AK9+октябрь!AK9+ноябрь!AK9+декабрь!AK9+январь!AK9+февраль!AK9+март!AK9+апрель!AK9+май!AK9","v":1},{"$f":"сентябрь!AL9+октябрь!AL9+ноябрь!AL9+декабрь!AL9+январь!AL9+февраль!AL9+март!AL9+апрель!AL9+май!AL9","v":0},{"$f":"сентябрь!AM9+октябрь!AM9+ноябрь!AM9+декабрь!AM9+январь!AM9+февраль!AM9+март!AM9+апрель!AM9+май!AM9","v":0},{"$f":"сентябрь!AN9+октябрь!AN9+ноябрь!AN9+декабрь!AN9+январь!AN9+февраль!AN9+март!AN9+апрель!AN9+май!AN9","v":0},{"$f":"сентябрь!AO9+октябрь!AO9+ноябрь!AO9+декабрь!AO9+январь!AO9+февраль!AO9+март!AO9+апрель!AO9+май!AO9","v":0},{"$f":"сентябрь!AP9+октябрь!AP9+ноябрь!AP9+декабрь!AP9+январь!AP9+февраль!AP9+март!AP9+апрель!AP9+май!AP9","v":1},{"$f":"сентябрь!AQ9+октябрь!AQ9+ноябрь!AQ9+декабрь!AQ9+январь!AQ9+февраль!AQ9+март!AQ9+апрель!AQ9+май!AQ9","v":0},{"$f":"сентябрь!AR9+октябрь!AR9+ноябрь!AR9+декабрь!AR9+январь!AR9+февраль!AR9+март!AR9+апрель!AR9+май!AR9","v":1},{"$f":"сентябрь!AS9+октябрь!AS9+ноябрь!AS9+декабрь!AS9+январь!AS9+февраль!AS9+март!AS9+апрель!AS9+май!AS9","v":0},{"$f":"сентябрь!AT9+октябрь!AT9+ноябрь!AT9+декабрь!AT9+январь!AT9+февраль!AT9+март!AT9+апрель!AT9+май!AT9","v":0},{"$f":"сентябрь!AU9+октябрь!AU9+ноябрь!AU9+декабрь!AU9+январь!AU9+февраль!AU9+март!AU9+апрель!AU9+май!AU9","v":1},10]
[8,{"$f":"сентябрь!AG10+октябрь!AG10+ноябрь!AG10+декабрь!AG10+январь!AG10+февраль!AG10+март!AG10+апрель!AG10+май!AG10","v":1},{"$f":"сентябрь!AH10+октябрь!AH10+ноябрь!AH10+декабрь!AH10+январь!AH10+февраль!AH10+март!AH10+апрель!AH10+май!AH10","v":1},{"$f":"сентябрь!AI10+октябрь!AI10+ноябрь!AI10+декабрь!AI10+январь!AI10+февраль!AI10+март!AI10+апрель!AI10+май!AI10","v":0},{"$f":"сентябрь!AJ10+октябрь!AJ10+ноябрь!AJ10+декабрь!AJ10+январь!AJ10+февраль!AJ10+март!AJ10+апрель!AJ10+май!AJ10","v":2},{"$f":"сентябрь!AK10+октябрь!AK10+ноябрь!AK10+декабрь!AK10+январь!AK10+февраль!AK10+март!AK10+апрель!AK10+май!AK10","v":1},{"$f":"сентябрь!AL10+октябрь!AL10+ноябрь!AL10+декабрь!AL10+январь!AL10+февраль!AL10+март!AL10+апрель!AL10+май!AL10","v":1},{"$f":"сентябрь!AM10+октябрь!AM10+ноябрь!AM10+декабрь!AM10+январь!AM10+февраль!AM10+март!AM10+апрель!AM10+май!AM10","v":0},{"$f":"сентябрь!AN10+октябрь!AN10+ноябрь!AN10+декабрь!AN10+январь!AN10+февраль!AN10+март!AN10+апрель!AN10+май!AN10","v":0},{"$f":"сентябрь!AO10+октябрь!AO10+ноябрь!AO10+декабрь!AO10+январь!AO10+февраль!AO10+март!AO10+апрель!AO10+май!AO10","v":0},{"$f":"сентябрь!AP10+октябрь!AP10+ноябрь!AP10+декабрь!AP10+январь!AP10+февраль!AP10+март!AP10+апрель!AP10+май!AP10","v":1},{"$f":"сентябрь!AQ10+октябрь!AQ10+ноябрь!AQ10+декабрь!AQ10+январь!AQ10+февраль!AQ10+март!AQ10+апрель!AQ10+май!AQ10","v":0},{"$f":"сентябрь!AR10+октябрь!AR10+ноябрь!AR10+декабрь!AR10+январь!AR10+февраль!AR10+март!AR10+апрель!AR10+май!AR10","v":1},{"$f":"сентябрь!AS10+октябрь!AS10+ноябрь!AS10+декабрь!AS10+январь!AS10+февраль!AS10+март!AS10+апрель!AS10+май!AS10","v":2},{"$f":"сентябрь!AT10+октябрь!AT10+ноябрь!AT10+декабрь!AT10+январь!AT10+февраль!AT10+март!AT10+апрель!AT10+май!AT10","v":0},{"$f":"сентябрь!AU10+октябрь!AU10+ноябрь!AU10+декабрь!AU10+январь!AU10+февраль!AU10+март!AU10+апрель!AU10+май!AU10","v":0},10]
[9,{"$f":"сентябрь!AG11+октябрь!AG11+ноябрь!AG11+декабрь!AG11+январь!AG11+февраль!AG11+март!AG11+апрель!AG11+май!AG11","v":4},{"$f":"сентябрь!AH11+октябрь!AH11+ноябрь!AH11+декабрь!AH11+январь!AH11+февраль!AH11+март!AH11+апрель!AH11+май!AH11","v":2},{"$f":"сентябрь!AI11+октябрь!AI11+ноябрь!AI11+декабрь!AI11+январь!AI11+февраль!AI11+март!AI11+апрель!AI11+май!AI11","v":0},{"$f":"сентябрь!AJ11+октябрь!AJ11+ноябрь!AJ11+декабрь!AJ11+январь!AJ11+февраль!AJ11+март!AJ11+апрель!AJ11+май!AJ11","v":2},{"$f":"сентябрь!AK11+октябрь!AK11+ноябрь!AK11+декабрь!AK11+январь!AK11+февраль!AK11+март!AK11+апрель!AK11+май!AK11","v":1},{"$f":"сентябрь!AL11+октябрь!AL11+ноябрь!AL11+декабрь!AL11+январь!AL11+февраль!AL11+март!AL11+апрель!AL11+май!AL11","v":0},{"$f":"сентябрь!AM11+октябрь!AM11+ноябрь!AM11+декабрь!AM11+январь!AM11+февраль!AM11+март!AM11+апрель!AM11+май!AM11","v":0},{"$f":"сентябрь!AN11+октябрь!AN11+ноябрь!AN11+декабрь!AN11+январь!AN11+февраль!AN11+март!AN11+апрель!AN11+май!AN11","v":2},{"$f":"сентябрь!AO11+октябрь!AO11+ноябрь!AO11+декабрь!AO11+январь!AO11+февраль!AO11+март!AO11+апрель!AO11+май!AO11","v":0},{"$f":"сентябрь!AP11+октябрь!AP11+ноябрь!AP11+декабрь!AP11+январь!AP11+февраль!AP11+март!AP11+апрель!AP11+май!AP11","v":1},{"$f":"сентябрь!AQ11+октябрь!AQ11+ноябрь!AQ11+декабрь!AQ11+январь!AQ11+февраль!AQ11+март!AQ11+апрель!AQ11+май!AQ11","v":0},{"$f":"сентябрь!AR11+октябрь!AR11+ноябрь!AR11+декабрь!AR11+январь!AR11+февраль!AR11+март!AR11+апрель!AR11+май!AR11","v":1},{"$f":"сентябрь!AS11+октябрь!AS11+ноябрь!AS11+декабрь!AS11+январь!AS11+февраль!AS11+март!AS11+апрель!AS11+май!AS11","v":2},{"$f":"сентябрь!AT11+октябрь!AT11+ноябрь!AT11+декабрь!AT11+январь!AT11+февраль!AT11+март!AT11+апрель!AT11+май!AT11","v":0},{"$f":"сентябрь!AU11+октябрь!AU11+ноябрь!AU11+декабрь!AU11+январь!AU11+февраль!AU11+март!AU11+апрель!AU11+май!AU11","v":1},16]

{"sheet":"Лист3","index":11,"n_rows":0,"n_cols":0,"rows_kept":0}

{"sheet":"Лист1","index":12,"n_rows":0,"n_cols":0,"rows_kept":0}